BEGIN:VCALENDAR
VERSION:2.0
PRODID:-//Yellowhead County - ECPv6.15.20//NONSGML v1.0//EN
CALSCALE:GREGORIAN
METHOD:PUBLISH
X-ORIGINAL-URL:https://yhcounty.ca
X-WR-CALDESC:Events for Yellowhead County
REFRESH-INTERVAL;VALUE=DURATION:PT1H
X-Robots-Tag:noindex
X-PUBLISHED-TTL:PT1H
BEGIN:VTIMEZONE
TZID:America/Edmonton
BEGIN:DAYLIGHT
TZOFFSETFROM:-0700
TZOFFSETTO:-0600
TZNAME:MDT
DTSTART:20240310T090000
END:DAYLIGHT
BEGIN:STANDARD
TZOFFSETFROM:-0600
TZOFFSETTO:-0700
TZNAME:MST
DTSTART:20241103T080000
END:STANDARD
BEGIN:DAYLIGHT
TZOFFSETFROM:-0700
TZOFFSETTO:-0600
TZNAME:MDT
DTSTART:20250309T090000
END:DAYLIGHT
BEGIN:STANDARD
TZOFFSETFROM:-0600
TZOFFSETTO:-0700
TZNAME:MST
DTSTART:20251102T080000
END:STANDARD
BEGIN:DAYLIGHT
TZOFFSETFROM:-0700
TZOFFSETTO:-0600
TZNAME:MDT
DTSTART:20260308T090000
END:DAYLIGHT
BEGIN:STANDARD
TZOFFSETFROM:-0600
TZOFFSETTO:-0700
TZNAME:MST
DTSTART:20261101T080000
END:STANDARD
END:VTIMEZONE
BEGIN:VEVENT
DTSTART;TZID=America/Edmonton:20250618T103000
DTEND;TZID=America/Edmonton:20250618T103000
DTSTAMP:20260422T234823
CREATED:20250522T222728Z
LAST-MODIFIED:20250522T223008Z
UID:24123-1750242600-1750242600@yhcounty.ca
SUMMARY:Seniors Appreciation
DESCRIPTION:Yellowhead County Seniors Appreciation is coming up this June 18 at the Wildwood Community Hall! The event will feature learning presentations\, a catered lunch\, entertainment\, and door prizes.\n\n\n \n\n\nJulie Matthews\, former Global TV Trouble Shooter\, will share tips and tricks to spot the latest frauds and scams. You can learn to recognize the red flags and the steps to take if you have been victimized. Fraud is the fastest growing crime in Canada and it’s difficult to stay on top of the latest schemes. Education on fraud tactics is critical to keeping our families and communities safe.\n\n\n \n\n\nDoors will open at 10:00 am\, with a Dignitaries Welcome at 10:30 am\, followed by Julie’s presentation at 11:00 am. Then\, Pembina River Catering/Westend Meals on Wheels will provide a catered meal. Entertainment provided by Elmer Riehl and his band.\n\n\n \n\n\nYou will also enjoy information tables from Lobstick Literacy and Learning Society\, the Wildwood Public Library\, Hearing Care Doctors\, and the Alzheimer Society of Alberta and NWT.\n\n\n \n\n\nRegistration is required to ensure adequate supplies.\n\nYou can register by calling 780-325-3782 or 1-800-814-3935\, or online at yhcounty.ca/registration.
URL:https://yhcounty.ca/event/seniors-appreciation/
END:VEVENT
END:VCALENDAR