BEGIN:VCALENDAR
VERSION:2.0
PRODID:-//Yellowhead County - ECPv6.15.20//NONSGML v1.0//EN
CALSCALE:GREGORIAN
METHOD:PUBLISH
X-ORIGINAL-URL:https://yhcounty.ca
X-WR-CALDESC:Events for Yellowhead County
REFRESH-INTERVAL;VALUE=DURATION:PT1H
X-Robots-Tag:noindex
X-PUBLISHED-TTL:PT1H
BEGIN:VTIMEZONE
TZID:America/Edmonton
BEGIN:DAYLIGHT
TZOFFSETFROM:-0700
TZOFFSETTO:-0600
TZNAME:MDT
DTSTART:20240310T090000
END:DAYLIGHT
BEGIN:STANDARD
TZOFFSETFROM:-0600
TZOFFSETTO:-0700
TZNAME:MST
DTSTART:20241103T080000
END:STANDARD
BEGIN:DAYLIGHT
TZOFFSETFROM:-0700
TZOFFSETTO:-0600
TZNAME:MDT
DTSTART:20250309T090000
END:DAYLIGHT
BEGIN:STANDARD
TZOFFSETFROM:-0600
TZOFFSETTO:-0700
TZNAME:MST
DTSTART:20251102T080000
END:STANDARD
BEGIN:DAYLIGHT
TZOFFSETFROM:-0700
TZOFFSETTO:-0600
TZNAME:MDT
DTSTART:20260308T090000
END:DAYLIGHT
BEGIN:STANDARD
TZOFFSETFROM:-0600
TZOFFSETTO:-0700
TZNAME:MST
DTSTART:20261101T080000
END:STANDARD
END:VTIMEZONE
BEGIN:VEVENT
DTSTART;TZID=America/Edmonton:20250703T170000
DTEND;TZID=America/Edmonton:20250703T190000
DTSTAMP:20260423T091041
CREATED:20250626T203854Z
LAST-MODIFIED:20250626T203854Z
UID:24740-1751562000-1751569200@yhcounty.ca
SUMMARY:Kids Can Catch
DESCRIPTION:Join us for an evening of fishing with our annual Kids Can Catch event on Thursday\, July 3 from 5:00-7:00pm! \n\n\n \n\n\nCome out to Millers Lake Day-Use Area (East End) and enjoy an evening of fishing! The event will include a fishing rod raffle and a FREE BBQ put on by SECURE Energy. Local Conservation Officers and Fish & Wildlife experts will be on site to help with all your fishing needs and answer any questions.\n\n\n \n\n\nBring your own rod\, or borrow one of ours! No fishing license is needed for those 16 and under.\n\n\n \n\n\nFor more information\, please contact the Recreation Coordinator at 780-723-4800.
URL:https://yhcounty.ca/event/kids-can-catch/
END:VEVENT
END:VCALENDAR