BEGIN:VCALENDAR
VERSION:2.0
PRODID:-//Yellowhead County - ECPv6.15.20//NONSGML v1.0//EN
CALSCALE:GREGORIAN
METHOD:PUBLISH
X-ORIGINAL-URL:https://yhcounty.ca
X-WR-CALDESC:Events for Yellowhead County
REFRESH-INTERVAL;VALUE=DURATION:PT1H
X-Robots-Tag:noindex
X-PUBLISHED-TTL:PT1H
BEGIN:VTIMEZONE
TZID:America/Edmonton
BEGIN:DAYLIGHT
TZOFFSETFROM:-0700
TZOFFSETTO:-0600
TZNAME:MDT
DTSTART:20240310T090000
END:DAYLIGHT
BEGIN:STANDARD
TZOFFSETFROM:-0600
TZOFFSETTO:-0700
TZNAME:MST
DTSTART:20241103T080000
END:STANDARD
BEGIN:DAYLIGHT
TZOFFSETFROM:-0700
TZOFFSETTO:-0600
TZNAME:MDT
DTSTART:20250309T090000
END:DAYLIGHT
BEGIN:STANDARD
TZOFFSETFROM:-0600
TZOFFSETTO:-0700
TZNAME:MST
DTSTART:20251102T080000
END:STANDARD
BEGIN:DAYLIGHT
TZOFFSETFROM:-0700
TZOFFSETTO:-0600
TZNAME:MDT
DTSTART:20260308T090000
END:DAYLIGHT
BEGIN:STANDARD
TZOFFSETFROM:-0600
TZOFFSETTO:-0700
TZNAME:MST
DTSTART:20261101T080000
END:STANDARD
END:VTIMEZONE
BEGIN:VEVENT
DTSTART;TZID=America/Edmonton:20250806T180000
DTEND;TZID=America/Edmonton:20250806T200000
DTSTAMP:20260423T024033
CREATED:20250626T205604Z
LAST-MODIFIED:20250626T205604Z
UID:24750-1754503200-1754510400@yhcounty.ca
SUMMARY:Peers Art Classes - Pointillism Painting Class
DESCRIPTION:Versatile artist Gabriella Heron will be holding Peers Art Classes this summer at the Peers Multiplex!\n\n\n \n\n\nThere will be three great opportunities for those ages 16+ to bring out your inner artist this summer\, and all talents and skill levels are welcome!\n\n\n \n\n\nDETAILS (All classes are held at the Peers Multiplex from 6pm to 8pm\, $40 per class):\n\n\n– July 9: Watercolour Flower Collages\n\n\n– July 30: Quilt Style Colour Pencil Drawings\n\n\n– August 6: Pointillism Painting Class\n\n\n \n\n\nRegister at www.yhcounty.ca/registration or by calling 780-723-4800.
URL:https://yhcounty.ca/event/peers-art-classes-pointillism-painting-class/
END:VEVENT
BEGIN:VEVENT
DTSTART;TZID=America/Edmonton:20250820T180000
DTEND;TZID=America/Edmonton:20250820T200000
DTSTAMP:20260423T024033
CREATED:20250730T160716Z
LAST-MODIFIED:20250730T160716Z
UID:25288-1755712800-1755720000@yhcounty.ca
SUMMARY:Watercolour Flower Collage - Marlboro
DESCRIPTION:Versatile artist Gabriella Heron is back with a Watercolour Flower Collage class – this time in Marlboro! \nJoin us at the Marlboro Hall on August 20 from 6pm-8pm to take part in this fun art class! \nClass cost is $40 and all talents and skill levels are welcome. \nThe class is open to ages 16+ unless accompanied by a parent who is also registered. \nVisit www.yhcounty.ca/registration or call 780-723-4800 to register.
URL:https://yhcounty.ca/event/watercolour-flower-collage-marlboro/
END:VEVENT
END:VCALENDAR