BEGIN:VCALENDAR
VERSION:2.0
PRODID:-//Yellowhead County - ECPv6.15.20//NONSGML v1.0//EN
CALSCALE:GREGORIAN
METHOD:PUBLISH
X-ORIGINAL-URL:https://yhcounty.ca
X-WR-CALDESC:Events for Yellowhead County
REFRESH-INTERVAL;VALUE=DURATION:PT1H
X-Robots-Tag:noindex
X-PUBLISHED-TTL:PT1H
BEGIN:VTIMEZONE
TZID:America/Edmonton
BEGIN:DAYLIGHT
TZOFFSETFROM:-0700
TZOFFSETTO:-0600
TZNAME:MDT
DTSTART:20240310T090000
END:DAYLIGHT
BEGIN:STANDARD
TZOFFSETFROM:-0600
TZOFFSETTO:-0700
TZNAME:MST
DTSTART:20241103T080000
END:STANDARD
BEGIN:DAYLIGHT
TZOFFSETFROM:-0700
TZOFFSETTO:-0600
TZNAME:MDT
DTSTART:20250309T090000
END:DAYLIGHT
BEGIN:STANDARD
TZOFFSETFROM:-0600
TZOFFSETTO:-0700
TZNAME:MST
DTSTART:20251102T080000
END:STANDARD
BEGIN:DAYLIGHT
TZOFFSETFROM:-0700
TZOFFSETTO:-0600
TZNAME:MDT
DTSTART:20260308T090000
END:DAYLIGHT
BEGIN:STANDARD
TZOFFSETFROM:-0600
TZOFFSETTO:-0700
TZNAME:MST
DTSTART:20261101T080000
END:STANDARD
END:VTIMEZONE
BEGIN:VEVENT
DTSTART;TZID=America/Edmonton:20250602T163000
DTEND;TZID=America/Edmonton:20250602T184500
DTSTAMP:20260423T053140
CREATED:20250509T204612Z
LAST-MODIFIED:20250509T204612Z
UID:23990-1748881800-1748889900@yhcounty.ca
SUMMARY:Dance Classes in Peers - Week 2
DESCRIPTION:Join instructors from the Edson Dance Academy for a four-week dance class session at the Peers Multiplex! \n \nDates: Monday\, May 26 and June 2\, 9\, 16\nLocation: Peers Multiplex\nCost: $40 for the four-week session \nClass Times (separated by age groups):\n \n\nAges 3-5: 4:30 pm – 5:15 pm\nAges 6-8: 5:15 pm – 6:00 pm\nAges 9+: 6:00 pm to 6:45 pm\n\nRegister online at www.yhcounty.ca/registration of by phoning Jina at 780-723-4800
URL:https://yhcounty.ca/event/dance-classes-in-peers-week-2/
END:VEVENT
BEGIN:VEVENT
DTSTART;TZID=America/Edmonton:20250609T163000
DTEND;TZID=America/Edmonton:20250609T184500
DTSTAMP:20260423T053140
CREATED:20250509T204812Z
LAST-MODIFIED:20250509T204812Z
UID:23992-1749486600-1749494700@yhcounty.ca
SUMMARY:Dance Classes in Peers - Week 3
DESCRIPTION:Join instructors from the Edson Dance Academy for a four-week dance class session at the Peers Multiplex! \n \nDates: Monday\, May 26 and June 2\, 9\, 16\nLocation: Peers Multiplex\nCost: $40 for the four-week session \nClass Times (separated by age groups):\n \n\nAges 3-5: 4:30 pm – 5:15 pm\nAges 6-8: 5:15 pm – 6:00 pm\nAges 9+: 6:00 pm to 6:45 pm\n\nRegister online at www.yhcounty.ca/registration of by phoning Jina at 780-723-4800
URL:https://yhcounty.ca/event/dance-classes-in-peers-week-3/
END:VEVENT
BEGIN:VEVENT
DTSTART;TZID=America/Edmonton:20250616T163000
DTEND;TZID=America/Edmonton:20250616T184500
DTSTAMP:20260423T053140
CREATED:20250509T204938Z
LAST-MODIFIED:20250509T204938Z
UID:23994-1750091400-1750099500@yhcounty.ca
SUMMARY:Dance Classes in Peers - Week 4
DESCRIPTION:Join instructors from the Edson Dance Academy for a four-week dance class session at the Peers Multiplex! \n \nDates: Monday\, May 26 and June 2\, 9\, 16\nLocation: Peers Multiplex\nCost: $40 for the four-week session \nClass Times (separated by age groups):\n \n\nAges 3-5: 4:30 pm – 5:15 pm\nAges 6-8: 5:15 pm – 6:00 pm\nAges 9+: 6:00 pm to 6:45 pm\n\nRegister online at www.yhcounty.ca/registration of by phoning Jina at 780-723-4800
URL:https://yhcounty.ca/event/dance-classes-in-peers-week-4/
END:VEVENT
END:VCALENDAR