BEGIN:VCALENDAR
VERSION:2.0
PRODID:-//Yellowhead County - ECPv6.15.20//NONSGML v1.0//EN
CALSCALE:GREGORIAN
METHOD:PUBLISH
X-WR-CALNAME:Yellowhead County
X-ORIGINAL-URL:https://yhcounty.ca
X-WR-CALDESC:Events for Yellowhead County
REFRESH-INTERVAL;VALUE=DURATION:PT1H
X-Robots-Tag:noindex
X-PUBLISHED-TTL:PT1H
BEGIN:VTIMEZONE
TZID:America/Edmonton
BEGIN:DAYLIGHT
TZOFFSETFROM:-0700
TZOFFSETTO:-0600
TZNAME:MDT
DTSTART:20240310T090000
END:DAYLIGHT
BEGIN:STANDARD
TZOFFSETFROM:-0600
TZOFFSETTO:-0700
TZNAME:MST
DTSTART:20241103T080000
END:STANDARD
BEGIN:DAYLIGHT
TZOFFSETFROM:-0700
TZOFFSETTO:-0600
TZNAME:MDT
DTSTART:20250309T090000
END:DAYLIGHT
BEGIN:STANDARD
TZOFFSETFROM:-0600
TZOFFSETTO:-0700
TZNAME:MST
DTSTART:20251102T080000
END:STANDARD
BEGIN:DAYLIGHT
TZOFFSETFROM:-0700
TZOFFSETTO:-0600
TZNAME:MDT
DTSTART:20260308T090000
END:DAYLIGHT
BEGIN:STANDARD
TZOFFSETFROM:-0600
TZOFFSETTO:-0700
TZNAME:MST
DTSTART:20261101T080000
END:STANDARD
END:VTIMEZONE
BEGIN:VEVENT
DTSTART;TZID=America/Edmonton:20250516T100000
DTEND;TZID=America/Edmonton:20250516T123000
DTSTAMP:20260423T065519
CREATED:20250509T201812Z
LAST-MODIFIED:20250509T201812Z
UID:23973-1747389600-1747398600@yhcounty.ca
SUMMARY:At Home Alone - Peers
DESCRIPTION:Have your youth ages 10-13 join Yellowhead County FCSS for an “At Home Alone” Safety Course this May! \nThe course is designed to teach children to make safe choices when they are at home alone. Includes a safe food prep activity! \n \nThe course is held at the Peers Multiplex on Friday\, May 16 (a PD Day) from 10:00am to 12:30pm. \nCost to attend is $5 and pre-registration is required. Visit www.yhcounty.ca/registration before May 14.
URL:https://yhcounty.ca/event/at-home-alone-peers/
END:VEVENT
BEGIN:VEVENT
DTSTART;TZID=America/Edmonton:20250526T163000
DTEND;TZID=America/Edmonton:20250526T184500
DTSTAMP:20260423T065519
CREATED:20250509T204438Z
LAST-MODIFIED:20250509T204719Z
UID:23985-1748277000-1748285100@yhcounty.ca
SUMMARY:Dance Classes in Peers - Week 1
DESCRIPTION:Join instructors from the Edson Dance Academy for a four-week dance class session at the Peers Multiplex! \n \nDates: Monday\, May 26 and June 2\, 9\, 16\nLocation: Peers Multiplex\nCost: $40 for the four-week session \nClass Times (separated by age groups):\n \n\nAges 3-5: 4:30 pm – 5:15 pm\nAges 6-8: 5:15 pm – 6:00 pm\nAges 9+: 6:00 pm to 6:45 pm\n\nRegister online at www.yhcounty.ca/registration of by phoning Jina at 780-723-4800
URL:https://yhcounty.ca/event/dance-classes-in-peers/
END:VEVENT
END:VCALENDAR